BEGIN:VCALENDAR
VERSION:2.0
PRODID:-//Hope Community Church - ECPv6.15.20//NONSGML v1.0//EN
CALSCALE:GREGORIAN
METHOD:PUBLISH
X-ORIGINAL-URL:https://www.gethope.net
X-WR-CALDESC:Events for Hope Community Church
REFRESH-INTERVAL;VALUE=DURATION:PT1H
X-Robots-Tag:noindex
X-PUBLISHED-TTL:PT1H
BEGIN:VTIMEZONE
TZID:America/New_York
BEGIN:DAYLIGHT
TZOFFSETFROM:-0500
TZOFFSETTO:-0400
TZNAME:EDT
DTSTART:20250309T070000
END:DAYLIGHT
BEGIN:STANDARD
TZOFFSETFROM:-0400
TZOFFSETTO:-0500
TZNAME:EST
DTSTART:20251102T060000
END:STANDARD
BEGIN:DAYLIGHT
TZOFFSETFROM:-0500
TZOFFSETTO:-0400
TZNAME:EDT
DTSTART:20260308T070000
END:DAYLIGHT
BEGIN:STANDARD
TZOFFSETFROM:-0400
TZOFFSETTO:-0500
TZNAME:EST
DTSTART:20261101T060000
END:STANDARD
BEGIN:DAYLIGHT
TZOFFSETFROM:-0500
TZOFFSETTO:-0400
TZNAME:EDT
DTSTART:20270314T070000
END:DAYLIGHT
BEGIN:STANDARD
TZOFFSETFROM:-0400
TZOFFSETTO:-0500
TZNAME:EST
DTSTART:20271107T060000
END:STANDARD
END:VTIMEZONE
BEGIN:VEVENT
DTSTART;TZID=America/New_York:20260625T183000
DTEND;TZID=America/New_York:20260625T193000
DTSTAMP:20260425T112938
CREATED:20260424T103915Z
LAST-MODIFIED:20260424T103915Z
UID:10047282-1782412200-1782415800@www.gethope.net
SUMMARY:High School Ministry - Midweek Summer Series
DESCRIPTION:Kickoff NIght: Pizza Party\nWeek 1 \nWe’re starting strong with stacks of pizza and high energy. Come ready to worship and  start off our summer series! We'll be talking about how to stop living on "default" and start choosing the life God intended for us. \n \n\nMidweek Summer Series\nTake a break from the school-year grind. Midweek is your space to hang out\, eat good food\, and talk about things that actually matter. \nWhether you’re a rising freshman trying to find your footing or a rising senior ready to lead the way\, this is your space. \n\nWhat to Expect\n \n\n6:30 PM – Come & Hang\nThe first 30 minutes are for you. Snacks\, rec\, games\, music\, and space to intentionally slow down and enjoy time with others. This is the ultimate hangout time! \n\n \n\n7:00 PM – The Conversation\nHere we set up the conversation for the night – Diving into a mini-series called the Narrow Path\n  \n\n \n\n7:30 PM – Circle Up\nThis is the best part of the night! This is where you'll go from rows to circles and dive deep with your peers. \n\n\n \n\nThis Summer Series: The Narrow Path\nLife is loud and full of pressure. Between your phone\, your friends\, and the pressure to "succeed\," it’s easy to live on autopilot and just follow the crowd. \nIn this five-session series\, we’re exploring how the Narrow Path of Jesus isn't a list of boring restrictions. It’s actually a way to find the fullness of life\, better relationships\, and the peace we’re all looking for. No matter where you are in your faith journey\, these nights are built for you to explore what it looks like to follow Jesus in the real world. \n\n \n▶ WATCH THE SERIES \n\n 
URL:https://www.gethope.net/event/high-school-ministry-midweek-summer-series-10/
LOCATION:Apex Campus\, 2080 East Williams Street\, Apex\, NC\, 27539
ATTACH;FMTTYPE=image/png:https://www.gethope.net/wp-content/uploads/2026/04/6039-b34722c1b6d6464285400fab35f22030-7Y77lJ.png
END:VEVENT
BEGIN:VEVENT
DTSTART;TZID=America/New_York:20260701T150000
DTEND;TZID=America/New_York:20260701T160000
DTSTAMP:20260425T112938
CREATED:20260424T103615Z
LAST-MODIFIED:20260424T103615Z
UID:10047263-1782918000-1782921600@www.gethope.net
SUMMARY:Young at Heart: RSVP to attend our monthly gatherings!
DESCRIPTION:Join Us \nWe get together on the first Wednesday of each month from 3:00–5:00 PM in the Apex Room at Apex Campus. Each month brings something new — great conversations\, connection\, and a chance to grow in community. \nDon’t forget to sign up for the months you plan to come — we can’t wait to see you there! \n  \nStay Connected \nThe Young at Heart email list is the best way to stay connected and hear about all of our upcoming gatherings. When you sign up for one of our events\, you’ll automatically be added to our email list. \nYou can also sign up and manage your Hope subscriptions through the Hope App. To stay up to date\, click the “Subscriptions” banner on the homepage and select the email lists you’d like to receive.  \n 
URL:https://www.gethope.net/event/young-at-heart-rsvp-to-attend-our-monthly-gatherings-3/
END:VEVENT
BEGIN:VEVENT
DTSTART;TZID=America/New_York:20260708T183000
DTEND;TZID=America/New_York:20260708T193000
DTSTAMP:20260425T112938
CREATED:20260424T103900Z
LAST-MODIFIED:20260424T103900Z
UID:10047274-1783535400-1783539000@www.gethope.net
SUMMARY:High School Ministry - Midweek Summer Series
DESCRIPTION: "Merica Night & Hot Dogs\nWeek 2\nTime to go big on the Red\, White\, and Blue. We’re firing up the grill for a hot dog bar. Wear your most patriotic gear while we talk about how the Narrow Path changes the way we treat our friends (and our enemies). \n \n\nMidweek Summer Series\nTake a break from the school-year grind. Midweek is your space to hang out\, eat good food\, and talk about things that actually matter. \nWhether you’re a rising freshman trying to find your footing or a rising senior ready to lead the way\, this is your space. \n\nWhat to Expect\n \n\n6:30 PM – The Chill\nThe first 30 minutes are for you. Snacks\, rec\, music\, and space to intentionally slow down and enjoy time with others. This is the ultimate hangout time! \n\n \n\n7:00 PM – The "Controlled" Chaos\n30 minutes of large group games and icebreakers. We’re going for "all-out fun" here—pure competition geared specifically for you. \n\n \n\n7:30 PM – The Conversation\nThis is the best part of the night! This is where you'll go from rows to circles and dive deep with your peers. \n\n\n \n\nThis Summer Series: The Narrow Path\nLife is loud and full of pressure. Between your phone\, your friends\, and the pressure to "succeed\," it’s easy to live on autopilot and just follow the crowd. \nIn this five-session series\, we’re exploring how the Narrow Path of Jesus isn't a list of boring restrictions. It’s actually a way to find the fullness of life\, better relationships\, and the peace we’re all looking for. No matter where you are in your faith journey\, these nights are built for you to explore what it looks like to follow Jesus in the real world. \n\n \n▶ WATCH THE SERIES \n\n 
URL:https://www.gethope.net/event/high-school-ministry-midweek-summer-series-2/
LOCATION:Apex Campus\, 2080 East Williams Street\, Apex\, NC\, 27539
ATTACH;FMTTYPE=image/jpeg:https://www.gethope.net/wp-content/uploads/2026/04/6029-79ad1c09881647f1aa94165e93112430-MEmjlJ.jpg
END:VEVENT
BEGIN:VEVENT
DTSTART;TZID=America/New_York:20260709T183000
DTEND;TZID=America/New_York:20260709T193000
DTSTAMP:20260425T112938
CREATED:20260424T103901Z
LAST-MODIFIED:20260424T103901Z
UID:10047278-1783621800-1783625400@www.gethope.net
SUMMARY:High School Ministry - Midweek Summer Series
DESCRIPTION:Backyard Burgers\nWeek 2\n We'll be enjoying the weather with some freshly made burgers and hot dogs. Come ready to hang while we talk about how the Narrow Path changes the way we treat our friends (and our enemies). \n \n\nMidweek Summer Series\nTake a break from the school-year grind. Midweek is your space to hang out\, eat good food\, and talk about things that actually matter. \nWhether you’re a rising freshman trying to find your footing or a rising senior ready to lead the way\, this is your space. \n\nWhat to Expect\n \n\n6:30 PM – Come & Hang\nThe first 30 minutes are for you. Snacks\, rec\, games\, music\, and space to intentionally slow down and enjoy time with others. This is the ultimate hangout time! \n\n \n\n7:00 PM – The Conversation\nHere we set up the conversation for the night – Diving into a mini-series called the Narrow Path\n  \n\n \n\n7:30 PM – Circle Up\nThis is the best part of the night! This is where you'll go from rows to circles and dive deep with your peers. \n\n\n \n\nThis Summer Series: The Narrow Path\nLife is loud and full of pressure. Between your phone\, your friends\, and the pressure to "succeed\," it’s easy to live on autopilot and just follow the crowd. \nIn this five-session series\, we’re exploring how the Narrow Path of Jesus isn't a list of boring restrictions. It’s actually a way to find the fullness of life\, better relationships\, and the peace we’re all looking for. No matter where you are in your faith journey\, these nights are built for you to explore what it looks like to follow Jesus in the real world. \n\n \n▶ WATCH THE SERIES \n\n 
URL:https://www.gethope.net/event/high-school-ministry-midweek-summer-series-6/
LOCATION:Apex Campus\, 2080 East Williams Street\, Apex\, NC\, 27539
END:VEVENT
BEGIN:VEVENT
DTSTART;TZID=America/New_York:20260712T093000
DTEND;TZID=America/New_York:20260712T103000
DTSTAMP:20260425T112938
CREATED:20260424T103615Z
LAST-MODIFIED:20260424T103615Z
UID:10047261-1783848600-1783852200@www.gethope.net
SUMMARY:Connect at Hope
DESCRIPTION:You're invited! \nConnect at Hope is a monthly gathering for those who are new to Hope or looking to begin to experience church more as family.  You will have the chance to meet some other people in our community\, learn more about the vision of Hope\, and find out about opportunities to connect. \nWe meet the 2nd Sunday of the month during first service (from 9:30-10:30 AM)\, and we'd love for you to join! \nBrunch will be provided! Kindly RSVP with the names of all family members attending. Children and middle school students are encouraged to attend our KidCity environments (Nursery – 5th grade) or Middle School Ministry (6th – 8th grade).   \n 
URL:https://www.gethope.net/event/connect-at-hope-4/
LOCATION:Raleigh Campus\, 821 Buck Jones Road\, Raleigh\, 27606\, United States
END:VEVENT
BEGIN:VEVENT
DTSTART;TZID=America/New_York:20260712T104500
DTEND;TZID=America/New_York:20260712T114500
DTSTAMP:20260425T112938
CREATED:20260424T103700Z
LAST-MODIFIED:20260424T103700Z
UID:10047272-1783853100-1783856700@www.gethope.net
SUMMARY:Stop by between services. We would love to connect with you!
DESCRIPTION:If you're a college student\, this is a connection point just for you!\nEvery month we invite anyone who is new or who has been around Hope for a while and never gotten connected to a gathering we like to call Connect At Hope. It's a time to get to know other people from our church\, eat some free food\, and hopefully start to feel a little more connected to the church family. \nDuring the months of May\, June & July\, we'll be cooking up some extra food at the Raleigh campus and hosting a 2nd "Connect At Hope" just for college students. RSVP below. We'd love to see you there! \n \n 
URL:https://www.gethope.net/event/stop-by-between-services-we-would-love-to-connect-with-you-3/
LOCATION:Raleigh Campus\, 821 Buck Jones Road\, Raleigh\, 27606\, United States
ATTACH;FMTTYPE=image/jpeg:https://www.gethope.net/wp-content/uploads/2026/04/6020-965417a4bb724446b49e0e4682cc9b0f-eeGhjN.jpg
END:VEVENT
BEGIN:VEVENT
DTSTART;TZID=America/New_York:20260722T183000
DTEND;TZID=America/New_York:20260722T193000
DTSTAMP:20260425T112938
CREATED:20260424T103900Z
LAST-MODIFIED:20260424T103900Z
UID:10047275-1784745000-1784748600@www.gethope.net
SUMMARY:High School Ministry - Midweek Summer Series
DESCRIPTION: Fiesta NIght: The Nacho Bar\nWeek 3 \n We’re talking a mountain of chips and a literal river of cheese. Between the nachos and the games\, we’re diving into why putting God first is the only cure for the "hustle" and anxiety of high school. \n \n\nMidweek Summer Series\nTake a break from the school-year grind. Midweek is your space to hang out\, eat good food\, and talk about things that actually matter. \nWhether you’re a rising freshman trying to find your footing or a rising senior ready to lead the way\, this is your space. \n\nWhat to Expect\n \n\n6:30 PM – The Chill\nThe first 30 minutes are for you. Snacks\, rec\, music\, and space to intentionally slow down and enjoy time with others. This is the ultimate hangout time! \n\n \n\n7:00 PM – The "Controlled" Chaos\n30 minutes of large group games and icebreakers. We’re going for "all-out fun" here—pure competition geared specifically for you. \n\n \n\n7:30 PM – The Conversation\nThis is the best part of the night! This is where you'll go from rows to circles and dive deep with your peers. \n\n\n \n\nThis Summer Series: The Narrow Path\nLife is loud and full of pressure. Between your phone\, your friends\, and the pressure to "succeed\," it’s easy to live on autopilot and just follow the crowd. \nIn this five-session series\, we’re exploring how the Narrow Path of Jesus isn't a list of boring restrictions. It’s actually a way to find the fullness of life\, better relationships\, and the peace we’re all looking for. No matter where you are in your faith journey\, these nights are built for you to explore what it looks like to follow Jesus in the real world. \n\n \n▶ WATCH THE SERIES \n\n 
URL:https://www.gethope.net/event/high-school-ministry-midweek-summer-series-3/
LOCATION:Apex Campus\, 2080 East Williams Street\, Apex\, NC\, 27539
ATTACH;FMTTYPE=image/jpeg:https://www.gethope.net/wp-content/uploads/2026/04/6031-23a38c0fc0e74bef88463618d1fa571b-tZCcQy.jpg
END:VEVENT
BEGIN:VEVENT
DTSTART;TZID=America/New_York:20260723T183000
DTEND;TZID=America/New_York:20260723T193000
DTSTAMP:20260425T112938
CREATED:20260424T103915Z
LAST-MODIFIED:20260424T103915Z
UID:10047279-1784831400-1784835000@www.gethope.net
SUMMARY:High School Ministry - Midweek Summer Series
DESCRIPTION:Cereal Party!\nWeek 2\n Captain Crunch\, Fruity Pebbles\, Reese's Pieces & more…Trust me only the GOOD stuff. With a bowl in your hand we’ll be diving into why putting God first is the only cure for the "hustle" and anxiety of high school. \n \n\nMidweek Summer Series\nTake a break from the school-year grind. Midweek is your space to hang out\, eat good food\, and talk about things that actually matter. \nWhether you’re a rising freshman trying to find your footing or a rising senior ready to lead the way\, this is your space. \n\nWhat to Expect\n \n\n6:30 PM – Come & Hang\nThe first 30 minutes are for you. Snacks\, rec\, games\, music\, and space to intentionally slow down and enjoy time with others. This is the ultimate hangout time! \n\n \n\n7:00 PM – The Conversation\nHere we set up the conversation for the night – Diving into a mini-series called the Narrow Path\n  \n\n \n\n7:30 PM – Circle Up\nThis is the best part of the night! This is where you'll go from rows to circles and dive deep with your peers. \n\n\n \n\nThis Summer Series: The Narrow Path\nLife is loud and full of pressure. Between your phone\, your friends\, and the pressure to "succeed\," it’s easy to live on autopilot and just follow the crowd. \nIn this five-session series\, we’re exploring how the Narrow Path of Jesus isn't a list of boring restrictions. It’s actually a way to find the fullness of life\, better relationships\, and the peace we’re all looking for. No matter where you are in your faith journey\, these nights are built for you to explore what it looks like to follow Jesus in the real world. \n\n \n▶ WATCH THE SERIES \n\n 
URL:https://www.gethope.net/event/high-school-ministry-midweek-summer-series-7/
LOCATION:Apex Campus\, 2080 East Williams Street\, Apex\, NC\, 27539
ATTACH;FMTTYPE=image/png:https://www.gethope.net/wp-content/uploads/2026/04/6036-9e8843f725234563a739a0e59da79396-qGSjdc.png
END:VEVENT
BEGIN:VEVENT
DTSTART;TZID=America/New_York:20260805T150000
DTEND;TZID=America/New_York:20260805T160000
DTSTAMP:20260425T112938
CREATED:20260424T103630Z
LAST-MODIFIED:20260424T103630Z
UID:10047264-1785942000-1785945600@www.gethope.net
SUMMARY:Young at Heart: RSVP to attend our monthly gatherings!
DESCRIPTION:Join Us \nWe get together on the first Wednesday of each month from 3:00–5:00 PM in the Apex Room at Apex Campus. Each month brings something new — great conversations\, connection\, and a chance to grow in community. \nDon’t forget to sign up for the months you plan to come — we can’t wait to see you there! \n  \nStay Connected \nThe Young at Heart email list is the best way to stay connected and hear about all of our upcoming gatherings. When you sign up for one of our events\, you’ll automatically be added to our email list. \nYou can also sign up and manage your Hope subscriptions through the Hope App. To stay up to date\, click the “Subscriptions” banner on the homepage and select the email lists you’d like to receive.  \n 
URL:https://www.gethope.net/event/young-at-heart-rsvp-to-attend-our-monthly-gatherings-4/
ATTACH;FMTTYPE=image/png:https://www.gethope.net/wp-content/uploads/2026/04/5652-3b0b881a92de472da96df90264f95088-p6AuZV.png
END:VEVENT
BEGIN:VEVENT
DTSTART;TZID=America/New_York:20260805T183000
DTEND;TZID=America/New_York:20260805T193000
DTSTAMP:20260425T112938
CREATED:20260424T103900Z
LAST-MODIFIED:20260424T103900Z
UID:10047276-1785954600-1785958200@www.gethope.net
SUMMARY:High School Ministry - Midweek Summer Series
DESCRIPTION:Throwback T-Shirt/Trivia Night & Popcorn Bar\nWeek 4 \n Find that random vintage shirt in your closet. We’re pairing throwback vibes with the "Ultimate Popcorn Bar" while we talk about taking off the "masks" we wear and being the same person in every room. \n \n\nMidweek Summer Series\nTake a break from the school-year grind. Midweek is your space to hang out\, eat good food\, and talk about things that actually matter. \nWhether you’re a rising freshman trying to find your footing or a rising senior ready to lead the way\, this is your space. \n\nWhat to Expect\n \n\n6:30 PM – The Chill\nThe first 30 minutes are for you. Snacks\, rec\, music\, and space to intentionally slow down and enjoy time with others. This is the ultimate hangout time! \n\n \n\n7:00 PM – The "Controlled" Chaos\n30 minutes of large group games and icebreakers. We’re going for "all-out fun" here—pure competition geared specifically for you. \n\n \n\n7:30 PM – The Conversation\nThis is the best part of the night! This is where you'll go from rows to circles and dive deep with your peers. \n\n\n \n\nThis Summer Series: The Narrow Path\nLife is loud and full of pressure. Between your phone\, your friends\, and the pressure to "succeed\," it’s easy to live on autopilot and just follow the crowd. \nIn this five-session series\, we’re exploring how the Narrow Path of Jesus isn't a list of boring restrictions. It’s actually a way to find the fullness of life\, better relationships\, and the peace we’re all looking for. No matter where you are in your faith journey\, these nights are built for you to explore what it looks like to follow Jesus in the real world. \n\n \n▶ WATCH THE SERIES \n\n 
URL:https://www.gethope.net/event/high-school-ministry-midweek-summer-series-4/
LOCATION:Apex Campus\, 2080 East Williams Street\, Apex\, NC\, 27539
END:VEVENT
BEGIN:VEVENT
DTSTART;TZID=America/New_York:20260806T183000
DTEND;TZID=America/New_York:20260806T193000
DTSTAMP:20260425T112938
CREATED:20260424T103915Z
LAST-MODIFIED:20260424T103915Z
UID:10047280-1786041000-1786044600@www.gethope.net
SUMMARY:High School Ministry - Midweek Summer Series
DESCRIPTION:Smores 'N More Trivia NIght\nWeek 4\n Come with your sweet tooth as we create some gooey smores and talk about taking off the "masks" we wear and being the same person in every room. \n \n\nMidweek Summer Series\nTake a break from the school-year grind. Midweek is your space to hang out\, eat good food\, and talk about things that actually matter. \nWhether you’re a rising freshman trying to find your footing or a rising senior ready to lead the way\, this is your space. \n\nWhat to Expect\n \n\n6:30 PM – Come & Hang\nThe first 30 minutes are for you. Snacks\, rec\, games\, music\, and space to intentionally slow down and enjoy time with others. This is the ultimate hangout time! \n\n \n\n7:00 PM – The Conversation\nHere we set up the conversation for the night – Diving into a mini-series called the Narrow Path\n  \n\n \n\n7:30 PM – Circle Up\nThis is the best part of the night! This is where you'll go from rows to circles and dive deep with your peers. \n\n\n \n\nThis Summer Series: The Narrow Path\nLife is loud and full of pressure. Between your phone\, your friends\, and the pressure to "succeed\," it’s easy to live on autopilot and just follow the crowd. \nIn this five-session series\, we’re exploring how the Narrow Path of Jesus isn't a list of boring restrictions. It’s actually a way to find the fullness of life\, better relationships\, and the peace we’re all looking for. No matter where you are in your faith journey\, these nights are built for you to explore what it looks like to follow Jesus in the real world. \n\n \n▶ WATCH THE SERIES \n\n 
URL:https://www.gethope.net/event/high-school-ministry-midweek-summer-series-8/
LOCATION:Apex Campus\, 2080 East Williams Street\, Apex\, NC\, 27539
ATTACH;FMTTYPE=image/png:https://www.gethope.net/wp-content/uploads/2026/04/6037-8b1b09cf20374ca899902c385a52b0e9-aUQDIM.png
END:VEVENT
BEGIN:VEVENT
DTSTART;TZID=America/New_York:20260819T183000
DTEND;TZID=America/New_York:20260819T193000
DTSTAMP:20260425T112938
CREATED:20260424T103900Z
LAST-MODIFIED:20260424T103900Z
UID:10047277-1787164200-1787167800@www.gethope.net
SUMMARY:High School Ministry - Midweek Summer Series
DESCRIPTION: World Record Night: The FInale\nWeek 5 \n We’re closing out the summer by trying to break some ridiculous world records. We'll celebrate a great summer with more pizza and a final look at how to build a life foundation that doesn't crack when the storms hit. \n \n\nMidweek Summer Series\nTake a break from the school-year grind. Midweek is your space to hang out\, eat good food\, and talk about things that actually matter. \nWhether you’re a rising freshman trying to find your footing or a rising senior ready to lead the way\, this is your space. \n\nWhat to Expect\n \n\n6:30 PM – The Chill\nThe first 30 minutes are for you. Snacks\, rec\, music\, and space to intentionally slow down and enjoy time with others. This is the ultimate hangout time! \n\n \n\n7:00 PM – The "Controlled" Chaos\n30 minutes of large group games and icebreakers. We’re going for "all-out fun" here—pure competition geared specifically for you. \n\n \n\n7:30 PM – The Conversation\nThis is the best part of the night! This is where you'll go from rows to circles and dive deep with your peers. \n\n\n \n\nThis Summer Series: The Narrow Path\nLife is loud and full of pressure. Between your phone\, your friends\, and the pressure to "succeed\," it’s easy to live on autopilot and just follow the crowd. \nIn this five-session series\, we’re exploring how the Narrow Path of Jesus isn't a list of boring restrictions. It’s actually a way to find the fullness of life\, better relationships\, and the peace we’re all looking for. No matter where you are in your faith journey\, these nights are built for you to explore what it looks like to follow Jesus in the real world. \n\n \n▶ WATCH THE SERIES \n\n 
URL:https://www.gethope.net/event/high-school-ministry-midweek-summer-series-5/
LOCATION:Apex Campus\, 2080 East Williams Street\, Apex\, NC\, 27539
END:VEVENT
BEGIN:VEVENT
DTSTART;TZID=America/New_York:20260820T183000
DTEND;TZID=America/New_York:20260820T193000
DTSTAMP:20260425T112938
CREATED:20260424T103915Z
LAST-MODIFIED:20260424T103915Z
UID:10047281-1787250600-1787254200@www.gethope.net
SUMMARY:High School Ministry - Midweek Summer Series
DESCRIPTION:Summer Send Off Worship Night\nWeek 5\n We’re closing out the summer the way we started it: Worship & Pizza! Come join us as we praise the Lord and talk about how to build a life foundation that doesn't crack when the storms hit. \n \n\nMidweek Summer Series\nTake a break from the school-year grind. Midweek is your space to hang out\, eat good food\, and talk about things that actually matter. \nWhether you’re a rising freshman trying to find your footing or a rising senior ready to lead the way\, this is your space. \n\nWhat to Expect\n \n\n6:30 PM – Come & Hang\nThe first 30 minutes are for you. Snacks\, rec\, games\, music\, and space to intentionally slow down and enjoy time with others. This is the ultimate hangout time! \n\n \n\n7:00 PM – The Conversation\nHere we set up the conversation for the night – Diving into a mini-series called the Narrow Path\n  \n\n \n\n7:30 PM – Circle Up\nThis is the best part of the night! This is where you'll go from rows to circles and dive deep with your peers. \n\n\n \n\nThis Summer Series: The Narrow Path\nLife is loud and full of pressure. Between your phone\, your friends\, and the pressure to "succeed\," it’s easy to live on autopilot and just follow the crowd. \nIn this five-session series\, we’re exploring how the Narrow Path of Jesus isn't a list of boring restrictions. It’s actually a way to find the fullness of life\, better relationships\, and the peace we’re all looking for. No matter where you are in your faith journey\, these nights are built for you to explore what it looks like to follow Jesus in the real world. \n\n \n▶ WATCH THE SERIES \n\n 
URL:https://www.gethope.net/event/high-school-ministry-midweek-summer-series-9/
LOCATION:Apex Campus\, 2080 East Williams Street\, Apex\, NC\, 27539
ATTACH;FMTTYPE=image/png:https://www.gethope.net/wp-content/uploads/2026/04/6038-65b66e7d1f9e46ab8ee1b80172c37448-638sDg.png
END:VEVENT
BEGIN:VEVENT
DTSTART;TZID=America/New_York:20260902T150000
DTEND;TZID=America/New_York:20260902T160000
DTSTAMP:20260425T112938
CREATED:20260424T103630Z
LAST-MODIFIED:20260424T103630Z
UID:10047265-1788361200-1788364800@www.gethope.net
SUMMARY:Young at Heart: RSVP to attend our monthly gatherings!
DESCRIPTION:Join Us \nWe get together on the first Wednesday of each month from 3:00–5:00 PM in the Apex Room at Apex Campus. Each month brings something new — great conversations\, connection\, and a chance to grow in community. \nDon’t forget to sign up for the months you plan to come — we can’t wait to see you there! \n  \nStay Connected \nThe Young at Heart email list is the best way to stay connected and hear about all of our upcoming gatherings. When you sign up for one of our events\, you’ll automatically be added to our email list. \nYou can also sign up and manage your Hope subscriptions through the Hope App. To stay up to date\, click the “Subscriptions” banner on the homepage and select the email lists you’d like to receive.  \n 
URL:https://www.gethope.net/event/young-at-heart-rsvp-to-attend-our-monthly-gatherings-5/
ATTACH;FMTTYPE=image/png:https://www.gethope.net/wp-content/uploads/2026/04/5652-3b0b881a92de472da96df90264f95088-p6AuZV.png
END:VEVENT
BEGIN:VEVENT
DTSTART;TZID=America/New_York:20261007T150000
DTEND;TZID=America/New_York:20261007T160000
DTSTAMP:20260425T112938
CREATED:20260424T103630Z
LAST-MODIFIED:20260424T103630Z
UID:10047266-1791385200-1791388800@www.gethope.net
SUMMARY:Young at Heart: RSVP to attend our monthly gatherings!
DESCRIPTION:Join Us \nWe get together on the first Wednesday of each month from 3:00–5:00 PM in the Apex Room at Apex Campus. Each month brings something new — great conversations\, connection\, and a chance to grow in community. \nDon’t forget to sign up for the months you plan to come — we can’t wait to see you there! \n  \nStay Connected \nThe Young at Heart email list is the best way to stay connected and hear about all of our upcoming gatherings. When you sign up for one of our events\, you’ll automatically be added to our email list. \nYou can also sign up and manage your Hope subscriptions through the Hope App. To stay up to date\, click the “Subscriptions” banner on the homepage and select the email lists you’d like to receive.  \n 
URL:https://www.gethope.net/event/young-at-heart-rsvp-to-attend-our-monthly-gatherings-6/
ATTACH;FMTTYPE=image/png:https://www.gethope.net/wp-content/uploads/2026/04/5652-3b0b881a92de472da96df90264f95088-p6AuZV.png
END:VEVENT
END:VCALENDAR