BEGIN:VCALENDAR
VERSION:2.0
PRODID:-//Hope Community Church - ECPv6.15.20//NONSGML v1.0//EN
CALSCALE:GREGORIAN
METHOD:PUBLISH
X-WR-CALNAME:Hope Community Church
X-ORIGINAL-URL:https://www.gethope.net
X-WR-CALDESC:Events for Hope Community Church
REFRESH-INTERVAL;VALUE=DURATION:PT1H
X-Robots-Tag:noindex
X-PUBLISHED-TTL:PT1H
BEGIN:VTIMEZONE
TZID:America/New_York
BEGIN:DAYLIGHT
TZOFFSETFROM:-0500
TZOFFSETTO:-0400
TZNAME:EDT
DTSTART:20250309T070000
END:DAYLIGHT
BEGIN:STANDARD
TZOFFSETFROM:-0400
TZOFFSETTO:-0500
TZNAME:EST
DTSTART:20251102T060000
END:STANDARD
BEGIN:DAYLIGHT
TZOFFSETFROM:-0500
TZOFFSETTO:-0400
TZNAME:EDT
DTSTART:20260308T070000
END:DAYLIGHT
BEGIN:STANDARD
TZOFFSETFROM:-0400
TZOFFSETTO:-0500
TZNAME:EST
DTSTART:20261101T060000
END:STANDARD
BEGIN:DAYLIGHT
TZOFFSETFROM:-0500
TZOFFSETTO:-0400
TZNAME:EDT
DTSTART:20270314T070000
END:DAYLIGHT
BEGIN:STANDARD
TZOFFSETFROM:-0400
TZOFFSETTO:-0500
TZNAME:EST
DTSTART:20271107T060000
END:STANDARD
END:VTIMEZONE
BEGIN:VEVENT
DTSTART;TZID=America/New_York:20260423T153000
DTEND;TZID=America/New_York:20260423T163000
DTSTAMP:20260423T015404
CREATED:20260402T124458Z
LAST-MODIFIED:20260408T125301Z
UID:10047226-1776958200-1776961800@www.gethope.net
SUMMARY:Provide or Serve Dinner for Dillard Drive Staff
DESCRIPTION:Help us “Love Your School” by blessing the teachers and staff of Dillard Drive Magnet Elementary School!\nWe’re serving a bbq chickn dinner on April 23\, and we’d love for you to be part of it. You can join us by serving in person or donating needed items to help make the meal happen.
URL:https://www.gethope.net/event/provide-or-serve-dinner-for-dillard-drive-staff/
LOCATION:NC
ATTACH;FMTTYPE=image/png:https://www.gethope.net/wp-content/uploads/2026/04/5625-880d2f0bf01c4437883829d8874a0bfc-t0Vb03.png
END:VEVENT
END:VCALENDAR