BEGIN:VCALENDAR
VERSION:2.0
PRODID:-//Hope Community Church - ECPv6.15.20//NONSGML v1.0//EN
CALSCALE:GREGORIAN
METHOD:PUBLISH
X-ORIGINAL-URL:https://www.gethope.net
X-WR-CALDESC:Events for Hope Community Church
REFRESH-INTERVAL;VALUE=DURATION:PT1H
X-Robots-Tag:noindex
X-PUBLISHED-TTL:PT1H
BEGIN:VTIMEZONE
TZID:America/New_York
BEGIN:DAYLIGHT
TZOFFSETFROM:-0500
TZOFFSETTO:-0400
TZNAME:EDT
DTSTART:20250309T070000
END:DAYLIGHT
BEGIN:STANDARD
TZOFFSETFROM:-0400
TZOFFSETTO:-0500
TZNAME:EST
DTSTART:20251102T060000
END:STANDARD
BEGIN:DAYLIGHT
TZOFFSETFROM:-0500
TZOFFSETTO:-0400
TZNAME:EDT
DTSTART:20260308T070000
END:DAYLIGHT
BEGIN:STANDARD
TZOFFSETFROM:-0400
TZOFFSETTO:-0500
TZNAME:EST
DTSTART:20261101T060000
END:STANDARD
BEGIN:DAYLIGHT
TZOFFSETFROM:-0500
TZOFFSETTO:-0400
TZNAME:EDT
DTSTART:20270314T070000
END:DAYLIGHT
BEGIN:STANDARD
TZOFFSETFROM:-0400
TZOFFSETTO:-0500
TZNAME:EST
DTSTART:20271107T060000
END:STANDARD
END:VTIMEZONE
BEGIN:VEVENT
DTSTART;TZID=America/New_York:20260325T190000
DTEND;TZID=America/New_York:20260325T210000
DTSTAMP:20260422T183315
CREATED:20260309T155657Z
LAST-MODIFIED:20260316T152554Z
UID:10047210-1774465200-1774472400@www.gethope.net
SUMMARY:YAM - Nights
DESCRIPTION:YAM meets Wednesday nights from 7:00-9:00 p.m. at the Raleigh campus. YAM includes an intentional rhythm of large group worship\, Bible teaching\, and discussion to help you build community and grow in relationship with Jesus. Friends are always welcome. No registration required.
URL:https://www.gethope.net/event/yam-nights-3/
LOCATION:Raleigh Campus\, 821 Buck Jones Road\, Raleigh\, 27606\, United States
ATTACH;FMTTYPE=image/png:https://www.gethope.net/wp-content/uploads/2026/03/1391-24a16a68a68245d7a6aa9bf3d8a56d32-blNjJU.png
ORGANIZER;CN="Young Adult":MAILTO:youngadult@gethope.net
END:VEVENT
END:VCALENDAR